BEGIN:VCALENDAR
VERSION:2.0
PRODID:-//AAOMS - ECPv6.15.20//NONSGML v1.0//EN
CALSCALE:GREGORIAN
METHOD:PUBLISH
X-ORIGINAL-URL:https://aaoms.org
X-WR-CALDESC:Events for AAOMS
REFRESH-INTERVAL;VALUE=DURATION:PT1H
X-Robots-Tag:noindex
X-PUBLISHED-TTL:PT1H
BEGIN:VTIMEZONE
TZID:America/Chicago
BEGIN:DAYLIGHT
TZOFFSETFROM:-0600
TZOFFSETTO:-0500
TZNAME:CDT
DTSTART:20250309T080000
END:DAYLIGHT
BEGIN:STANDARD
TZOFFSETFROM:-0500
TZOFFSETTO:-0600
TZNAME:CST
DTSTART:20251102T070000
END:STANDARD
BEGIN:DAYLIGHT
TZOFFSETFROM:-0600
TZOFFSETTO:-0500
TZNAME:CDT
DTSTART:20260308T080000
END:DAYLIGHT
BEGIN:STANDARD
TZOFFSETFROM:-0500
TZOFFSETTO:-0600
TZNAME:CST
DTSTART:20261101T070000
END:STANDARD
BEGIN:DAYLIGHT
TZOFFSETFROM:-0600
TZOFFSETTO:-0500
TZNAME:CDT
DTSTART:20270314T080000
END:DAYLIGHT
BEGIN:STANDARD
TZOFFSETFROM:-0500
TZOFFSETTO:-0600
TZNAME:CST
DTSTART:20271107T070000
END:STANDARD
END:VTIMEZONE
BEGIN:VEVENT
DTSTART;TZID=America/Chicago:20260430T180000
DTEND;TZID=America/Chicago:20260430T190000
DTSTAMP:20260424T080800
CREATED:20260313T200546Z
LAST-MODIFIED:20260403T181909Z
UID:10000092-1777572000-1777575600@aaoms.org
SUMMARY:A Review of Hard-Tissue Grafting in Oral and Maxillofacial Surgery webinar
DESCRIPTION:
URL:https://aaoms.org/events/a-review-of-hard-tissue-grafting-in-oral-and-maxillofacial-surgery/
CATEGORIES:CE,Clinical,OMS,Resident
END:VEVENT
END:VCALENDAR