BEGIN:VCALENDAR
VERSION:2.0
PRODID:-//AAOMS - ECPv6.15.20//NONSGML v1.0//EN
CALSCALE:GREGORIAN
METHOD:PUBLISH
X-ORIGINAL-URL:https://aaoms.org
X-WR-CALDESC:Events for AAOMS
REFRESH-INTERVAL;VALUE=DURATION:PT1H
X-Robots-Tag:noindex
X-PUBLISHED-TTL:PT1H
BEGIN:VTIMEZONE
TZID:America/New_York
BEGIN:DAYLIGHT
TZOFFSETFROM:-0500
TZOFFSETTO:-0400
TZNAME:EDT
DTSTART:20250309T070000
END:DAYLIGHT
BEGIN:STANDARD
TZOFFSETFROM:-0400
TZOFFSETTO:-0500
TZNAME:EST
DTSTART:20251102T060000
END:STANDARD
BEGIN:DAYLIGHT
TZOFFSETFROM:-0500
TZOFFSETTO:-0400
TZNAME:EDT
DTSTART:20260308T070000
END:DAYLIGHT
BEGIN:STANDARD
TZOFFSETFROM:-0400
TZOFFSETTO:-0500
TZNAME:EST
DTSTART:20261101T060000
END:STANDARD
BEGIN:DAYLIGHT
TZOFFSETFROM:-0500
TZOFFSETTO:-0400
TZNAME:EDT
DTSTART:20270314T070000
END:DAYLIGHT
BEGIN:STANDARD
TZOFFSETFROM:-0400
TZOFFSETTO:-0500
TZNAME:EST
DTSTART:20271107T060000
END:STANDARD
END:VTIMEZONE
BEGIN:VEVENT
DTSTART;VALUE=DATE:20260611
DTEND;VALUE=DATE:20260614
DTSTAMP:20260420T090515
CREATED:20251113T230258Z
LAST-MODIFIED:20251113T232221Z
UID:10000077-1781136000-1781395199@aaoms.org
SUMMARY:69th Canadian Association of Oral and Maxillofacial Surgeons (CAOMS) Annual Conference
DESCRIPTION:
URL:https://aaoms.org/events/69th-canadian-association-of-oral-and-maxillofacial-surgeons-caoms-annual-conference/
LOCATION:Delta Hotels Prince Edward\, Marriott\, 18 Queen St.\, Charlottetown\, Prince Edward Island\, C1A 4A1\, Canada
CATEGORIES:International
GEO:46.2320126;-63.1239944
X-APPLE-STRUCTURED-LOCATION;VALUE=URI;X-ADDRESS=Delta Hotels Prince Edward Marriott 18 Queen St. Charlottetown Prince Edward Island C1A 4A1 Canada;X-APPLE-RADIUS=500;X-TITLE=18 Queen St.:geo:-63.1239944,46.2320126
END:VEVENT
BEGIN:VEVENT
DTSTART;VALUE=DATE:20260624
DTEND;VALUE=DATE:20260627
DTSTAMP:20260420T090515
CREATED:20251113T230438Z
LAST-MODIFIED:20251113T230438Z
UID:10000078-1782259200-1782518399@aaoms.org
SUMMARY:British Association of Oral and Maxillofacial Surgeons (BAOMS) Annual Scientific Meeting
DESCRIPTION:
URL:https://aaoms.org/events/british-association-of-oral-and-maxillofacial-surgeons-baoms-annual-scientific-meeting/
LOCATION:International Convention Centre (ICC) Belfast\, 2 Lanyon Pl.\, Belfast\, Northern Ireland\, BT1 3WH\, United Kingdom
CATEGORIES:International
GEO:54.597237;-5.919934
X-APPLE-STRUCTURED-LOCATION;VALUE=URI;X-ADDRESS=International Convention Centre (ICC) Belfast 2 Lanyon Pl. Belfast Northern Ireland BT1 3WH United Kingdom;X-APPLE-RADIUS=500;X-TITLE=2 Lanyon Pl.:geo:-5.919934,54.597237
END:VEVENT
END:VCALENDAR